BEGIN:VCALENDAR
VERSION:2.0
PRODID:-//Krav Maga Self Defence - ECPv5.0.0//NONSGML v1.0//EN
CALSCALE:GREGORIAN
METHOD:PUBLISH
X-WR-CALNAME:Krav Maga Self Defence
X-ORIGINAL-URL:https://www.kravmagaselfdefence.com.au
X-WR-CALDESC:Events for Krav Maga Self Defence
BEGIN:VTIMEZONE
TZID:Australia/Sydney
BEGIN:STANDARD
TZOFFSETFROM:+1100
TZOFFSETTO:+1000
TZNAME:AEST
DTSTART:20200404T160000
END:STANDARD
BEGIN:DAYLIGHT
TZOFFSETFROM:+1000
TZOFFSETTO:+1100
TZNAME:AEDT
DTSTART:20201003T160000
END:DAYLIGHT
END:VTIMEZONE
BEGIN:VEVENT
DTSTART;TZID=Australia/Sydney:20200328T123000
DTEND;TZID=Australia/Sydney:20200328T143000
DTSTAMP:20200301T031255
CREATED:20191208T092626Z
LAST-MODIFIED:20200202T005528Z
UID:4969-1585398600-1585405800@www.kravmagaselfdefence.com.au
SUMMARY:Pre-grading Workshop
DESCRIPTION:In addition to regular classes\, we offer a grading bootcamp to help all KMG students build confidence in their techniques prior to testing for their next grading. Practitioner and Graduate students are welcome. \n\nOur instructors are available to assist with correction and guidance throughout the event. We want to help students understand what is required of them for their test all whilst removing any unnecessary stress and worry. \n\nMimicking the size of a group private lesson\, this 2 hour intensive workshop will include: \n\nTechnique review for your aspired\, current and previous grades\nDrills and tactics to refine your Krav Maga skills\nTips on how to prepare for grading\nSmaller groups to allow for more personalised feedback.\n\n  \nRegister here: \n\nKrav Maga Workshop \n\n
URL:https://www.kravmagaselfdefence.com.au/event/adults-grading-bootcamp-03-2020/
LOCATION:Krav Maga Self Defence\, G15/2a Victoria Avenue\, Castle Hill\, NSW\, 2154\, Australia
CATEGORIES:Adults,Grading
ATTACH;FMTTYPE=image/jpeg:https://www.kravmagaselfdefence.com.au/wp-content/uploads/2020/02/KMSD-Pre-GradingWorkshop_DateLow.jpg
ORGANIZER;CN="Krav%20Maga%20Self%20Defence":MAILTO:sven@kravmagaselfdefence.com.au
END:VEVENT
BEGIN:VEVENT
DTSTART;VALUE=DATE:20200329
DTEND;VALUE=DATE:20200330
DTSTAMP:20200301T031255
CREATED:20200128T133911Z
LAST-MODIFIED:20200128T150601Z
UID:5133-1585440000-1585526399@www.kravmagaselfdefence.com.au
SUMMARY:Krav Junior Grading
DESCRIPTION:We like to have our kids goal oriented. There is no better goal than achieving your next belt. Grading time is now! \nBring your kids along for the challenge and get tested by our Kids Instructors. \nStudents wishing to grade\, must ensure payment is received  4 days before the grading. \n  \nNote: full uniform is required\n(i.e. KMG shirt\, black training pants and current belt.) \nPlease check with your Instructor if your child is eligible to grade. \nKIDS (5-10 y.o.) \n\n9:30am Yellow & Yellow tip.\n10:30am Orange & above.\n\nJUNIORS (10-16 y.o.) \n\n1:30pm All Juniors\n(Finish time will vary depending on grade.)\n\nKrav Junior Grading Registration\n\nClick on the image to take you to the registration page: \n\nKrav Junior Grading \n\n
URL:https://www.kravmagaselfdefence.com.au/event/krav-junior-grading-2/
LOCATION:Krav Maga Self Defence\, G15/2a Victoria Avenue\, Castle Hill\, NSW\, 2154\, Australia
CATEGORIES:Grading,Kids/Juniors
ATTACH;FMTTYPE=image/jpeg:https://www.kravmagaselfdefence.com.au/wp-content/uploads/2020/01/20200329wm.jpg
ORGANIZER;CN="Krav%20Maga%20Self%20Defence":MAILTO:sven@kravmagaselfdefence.com.au
END:VEVENT
BEGIN:VEVENT
DTSTART;TZID=Australia/Sydney:20200405T100000
DTEND;TZID=Australia/Sydney:20200405T170000
DTSTAMP:20200301T031255
CREATED:20190809T113649Z
LAST-MODIFIED:20200209T094017Z
UID:4291-1586080800-1586106000@www.kravmagaselfdefence.com.au
SUMMARY:Adults Grading
DESCRIPTION:Grading is upon us. Come along for the challenge and get another grade in Krav Maga Global’s ranking system.\nRemember when you grade with us you are ranked in a system that is truly global. \nStudents from all Krav Maga Global schools are welcome to grade with us.\nCheck with your instructor to confirm your eligibility to grade. \nFirst time grading?\nUpon passing your first grade\, you will be issued with a KMG passport\, which you can take with you anywhere in the world\, and train with any other KMG affiliate school.\n\nGrading Requirements \n\nPlease wear  your full uniform (KMG student shirt\, black training pants.)\nIf you are Practitioner 2 and above; please present your passport upon arriving to the front desk.\nIt is recommended that you have protective gear (groin guard\, mouth guard.)\nDepending on your testing level\, you may require sparring gear (gloves\, shin guards\, head gear)\n\nRegister here:\nhttps://www.kravmagaselfdefence.com.au/krav-maga-grading/ \n  \n
URL:https://www.kravmagaselfdefence.com.au/event/adults-grading/
LOCATION:Krav Maga Self Defence\, G15/2a Victoria Avenue\, Castle Hill\, NSW\, 2154\, Australia
CATEGORIES:Adults,Grading
ATTACH;FMTTYPE=image/jpeg:https://www.kravmagaselfdefence.com.au/wp-content/uploads/2020/01/AdultGradingTemplate2020_png.jpg
ORGANIZER;CN="Krav%20Maga%20Self%20Defence":MAILTO:sven@kravmagaselfdefence.com.au
END:VEVENT
BEGIN:VEVENT
DTSTART;TZID=Australia/Sydney:20200530T133000
DTEND;TZID=Australia/Sydney:20200530T163000
DTSTAMP:20200301T031255
CREATED:20190209T032847Z
LAST-MODIFIED:20200209T092748Z
UID:4841-1590845400-1590856200@www.kravmagaselfdefence.com.au
SUMMARY:Women's Workshop - May
DESCRIPTION:  \nKrav Maga Global (KMG) has developed training methods for women based on years of experience and numerous real-life situations in which women found our system to be the most effective. KMG’s system for women provides excellent self-defence skills\, producing the highest rate of defence successes facing different types of attacks. \nIn addition to the technical and tactical training required to gain Krav Maga skills\, women must develop the appropriate mental capabilities to support their physical readiness to fight.\nOur women’s training includes developing the determination\, persistence and ability to turn on aggression and turn off when needed. \nMaster Eyal Yanilov provides a small talk on Krav Maga for women and demonstrates techniques for women that can be used against assailants. \n \n  \nTo find out more information\, and to register\, click here:\nhttp://kravmagaselfdefence.com.au/womens \n
URL:https://www.kravmagaselfdefence.com.au/event/womens-workshop-may-2020/
LOCATION:Krav Maga Self Defence\, G15/2a Victoria Avenue\, Castle Hill\, NSW\, 2154\, Australia
CATEGORIES:womens
ATTACH;FMTTYPE=image/jpeg:https://www.kravmagaselfdefence.com.au/wp-content/uploads/2019/02/600WomensSeminar-Recovered_Nodate.jpg
ORGANIZER;CN="Krav%20Maga%20Self%20Defence":MAILTO:sven@kravmagaselfdefence.com.au
END:VEVENT
END:VCALENDAR